BEGIN:VCALENDAR
VERSION:2.0
PRODID:-//ChamberMaster//Event Calendar 2.0//EN
METHOD:PUBLISH
X-PUBLISHED-TTL:P1H
REFRESH-INTERVAL:P1H
CALSCALE:GREGORIAN
BEGIN:VTIMEZONE
TZID:America/Chicago
BEGIN:DAYLIGHT
RRULE:FREQ=YEARLY;BYMONTH=3;BYDAY=2SU
DTSTART:20070101T000000
TZOFFSETFROM:-0600
TZOFFSETTO:-0500
TZNAME:Central Daylight Time
END:DAYLIGHT
BEGIN:STANDARD
RRULE:FREQ=YEARLY;BYMONTH=11;BYDAY=1SU
DTSTART:20070101T000000
TZOFFSETFROM:-0500
TZOFFSETTO:-0600
TZNAME:Central Standard Time
END:STANDARD
END:VTIMEZONE
BEGIN:VEVENT
DTSTART;TZID=America/Chicago:20260710T000000
DTEND;TZID=America/Chicago:20260710T000000
X-MICROSOFT-CDO-ALLDAYEVENT:FALSE
SUMMARY:LARBCC Synergy Mixer
DESCRIPTION:
X-ALT-DESC;FMTTYPE=text/html:
LOCATION:3700 W Prien Lake Rd Lake Charles LA 70605
UID:e.1968.1441306
SEQUENCE:3
DTSTAMP:20260421T224741Z
URL:https://business.larbcc.org/chamber-events/Details/larbcc-synergy-mixer-1706525?sourceTypeId=Hub
END:VEVENT
END:VCALENDAR
